BEGIN:VCALENDAR
VERSION:2.0
PRODID:-//Cathays High School &brvbar; Ysgol Uwchradd Cathays - ECPv6.15.20//NONSGML v1.0//EN
CALSCALE:GREGORIAN
METHOD:PUBLISH
X-WR-CALNAME:Cathays High School &brvbar; Ysgol Uwchradd Cathays
X-ORIGINAL-URL:https://www.cathayshigh.co.uk
X-WR-CALDESC:Events for Cathays High School &brvbar; Ysgol Uwchradd Cathays
REFRESH-INTERVAL;VALUE=DURATION:PT1H
X-Robots-Tag:noindex
X-PUBLISHED-TTL:PT1H
BEGIN:VTIMEZONE
TZID:Europe/London
BEGIN:DAYLIGHT
TZOFFSETFROM:+0000
TZOFFSETTO:+0100
TZNAME:BST
DTSTART:20240331T010000
END:DAYLIGHT
BEGIN:STANDARD
TZOFFSETFROM:+0100
TZOFFSETTO:+0000
TZNAME:GMT
DTSTART:20241027T010000
END:STANDARD
BEGIN:DAYLIGHT
TZOFFSETFROM:+0000
TZOFFSETTO:+0100
TZNAME:BST
DTSTART:20250330T010000
END:DAYLIGHT
BEGIN:STANDARD
TZOFFSETFROM:+0100
TZOFFSETTO:+0000
TZNAME:GMT
DTSTART:20251026T010000
END:STANDARD
BEGIN:DAYLIGHT
TZOFFSETFROM:+0000
TZOFFSETTO:+0100
TZNAME:BST
DTSTART:20260329T010000
END:DAYLIGHT
BEGIN:STANDARD
TZOFFSETFROM:+0100
TZOFFSETTO:+0000
TZNAME:GMT
DTSTART:20261025T010000
END:STANDARD
END:VTIMEZONE
BEGIN:VEVENT
DTSTART;TZID=Europe/London:20251119T180000
DTEND;TZID=Europe/London:20251119T200000
DTSTAMP:20260425T044517
CREATED:20240802T081133Z
LAST-MODIFIED:20250807T140043Z
UID:10000270-1763575200-1763582400@www.cathayshigh.co.uk
SUMMARY:Full Governing Body Meeting
DESCRIPTION:Meeting of all Governors on a variety of issues
URL:https://www.cathayshigh.co.uk/event/full-governing-body-meeting-5-2/2025-11-19/
CATEGORIES:Governors
END:VEVENT
BEGIN:VEVENT
DTSTART;TZID=Europe/London:20251120T160000
DTEND;TZID=Europe/London:20251120T190000
DTSTAMP:20260425T044517
CREATED:20210928T181209Z
LAST-MODIFIED:20250807T135036Z
UID:10000004-1763654400-1763665200@www.cathayshigh.co.uk
SUMMARY:Years 10 & 12 Parents' Evening
DESCRIPTION:
URL:https://www.cathayshigh.co.uk/event/years-10-12-virtual-parents-evening/
CATEGORIES:Parents' Evenings
END:VEVENT
END:VCALENDAR