BEGIN:VCALENDAR
VERSION:2.0
PRODID:-//Cathays High School &brvbar; Ysgol Uwchradd Cathays - ECPv6.15.20//NONSGML v1.0//EN
CALSCALE:GREGORIAN
METHOD:PUBLISH
X-WR-CALNAME:Cathays High School &brvbar; Ysgol Uwchradd Cathays
X-ORIGINAL-URL:https://www.cathayshigh.co.uk
X-WR-CALDESC:Events for Cathays High School &brvbar; Ysgol Uwchradd Cathays
REFRESH-INTERVAL;VALUE=DURATION:PT1H
X-Robots-Tag:noindex
X-PUBLISHED-TTL:PT1H
BEGIN:VTIMEZONE
TZID:Europe/London
BEGIN:DAYLIGHT
TZOFFSETFROM:+0000
TZOFFSETTO:+0100
TZNAME:BST
DTSTART:20240331T010000
END:DAYLIGHT
BEGIN:STANDARD
TZOFFSETFROM:+0100
TZOFFSETTO:+0000
TZNAME:GMT
DTSTART:20241027T010000
END:STANDARD
BEGIN:DAYLIGHT
TZOFFSETFROM:+0000
TZOFFSETTO:+0100
TZNAME:BST
DTSTART:20250330T010000
END:DAYLIGHT
BEGIN:STANDARD
TZOFFSETFROM:+0100
TZOFFSETTO:+0000
TZNAME:GMT
DTSTART:20251026T010000
END:STANDARD
BEGIN:DAYLIGHT
TZOFFSETFROM:+0000
TZOFFSETTO:+0100
TZNAME:BST
DTSTART:20260329T010000
END:DAYLIGHT
BEGIN:STANDARD
TZOFFSETFROM:+0100
TZOFFSETTO:+0000
TZNAME:GMT
DTSTART:20261025T010000
END:STANDARD
END:VTIMEZONE
BEGIN:VEVENT
DTSTART;TZID=Europe/London:20251105T180000
DTEND;TZID=Europe/London:20251105T200000
DTSTAMP:20260425T005249
CREATED:20240802T082252Z
LAST-MODIFIED:20250807T135352Z
UID:10000259-1762365600-1762372800@www.cathayshigh.co.uk
SUMMARY:Premises and Community Matters Governor Meeting
DESCRIPTION:Governors meeting focused around Premises and community matters
URL:https://www.cathayshigh.co.uk/event/premises-and-community-matters-governor-meeting-2-2/2025-11-05/
CATEGORIES:Governors
END:VEVENT
BEGIN:VEVENT
DTSTART;TZID=Europe/London:20251107T080000
DTEND;TZID=Europe/London:20251107T170000
DTSTAMP:20260425T005249
CREATED:20250807T140245Z
LAST-MODIFIED:20250807T140245Z
UID:10000275-1762502400-1762534800@www.cathayshigh.co.uk
SUMMARY:Inset Day 2
DESCRIPTION:
URL:https://www.cathayshigh.co.uk/event/inset-day-2/
LOCATION:Cathays High School\, Cathays High School\, Crown Way\, Cardiff\, CF14 3XG\, United Kingdom
CATEGORIES:INSET Days
ORGANIZER;CN="Cathays High School":MAILTO:schooladmin@cathays.cardiff.sch.uk
END:VEVENT
END:VCALENDAR