BEGIN:VCALENDAR
VERSION:2.0
PRODID:-//Cathays High School &brvbar; Ysgol Uwchradd Cathays - ECPv6.15.20//NONSGML v1.0//EN
CALSCALE:GREGORIAN
METHOD:PUBLISH
X-ORIGINAL-URL:https://www.cathayshigh.co.uk
X-WR-CALDESC:Events for Cathays High School &brvbar; Ysgol Uwchradd Cathays
REFRESH-INTERVAL;VALUE=DURATION:PT1H
X-Robots-Tag:noindex
X-PUBLISHED-TTL:PT1H
BEGIN:VTIMEZONE
TZID:Europe/London
BEGIN:DAYLIGHT
TZOFFSETFROM:+0000
TZOFFSETTO:+0100
TZNAME:BST
DTSTART:20240331T010000
END:DAYLIGHT
BEGIN:STANDARD
TZOFFSETFROM:+0100
TZOFFSETTO:+0000
TZNAME:GMT
DTSTART:20241027T010000
END:STANDARD
BEGIN:DAYLIGHT
TZOFFSETFROM:+0000
TZOFFSETTO:+0100
TZNAME:BST
DTSTART:20250330T010000
END:DAYLIGHT
BEGIN:STANDARD
TZOFFSETFROM:+0100
TZOFFSETTO:+0000
TZNAME:GMT
DTSTART:20251026T010000
END:STANDARD
BEGIN:DAYLIGHT
TZOFFSETFROM:+0000
TZOFFSETTO:+0100
TZNAME:BST
DTSTART:20260329T010000
END:DAYLIGHT
BEGIN:STANDARD
TZOFFSETFROM:+0100
TZOFFSETTO:+0000
TZNAME:GMT
DTSTART:20261025T010000
END:STANDARD
END:VTIMEZONE
BEGIN:VEVENT
DTSTART;VALUE=DATE:20251027
DTEND;VALUE=DATE:20251101
DTSTAMP:20260425T123858
CREATED:20210928T180833Z
LAST-MODIFIED:20250807T135438Z
UID:10000008-1761523200-1761955199@www.cathayshigh.co.uk
SUMMARY:Autumn Half-Term Break
DESCRIPTION:School is closed during this time.
URL:https://www.cathayshigh.co.uk/event/half-term-break/
CATEGORIES:School Holidays
END:VEVENT
END:VCALENDAR