BEGIN:VCALENDAR
VERSION:2.0
PRODID:-//Cathays High School &brvbar; Ysgol Uwchradd Cathays - ECPv6.15.20//NONSGML v1.0//EN
CALSCALE:GREGORIAN
METHOD:PUBLISH
X-WR-CALNAME:Cathays High School &brvbar; Ysgol Uwchradd Cathays
X-ORIGINAL-URL:https://www.cathayshigh.co.uk
X-WR-CALDESC:Events for Cathays High School &brvbar; Ysgol Uwchradd Cathays
REFRESH-INTERVAL;VALUE=DURATION:PT1H
X-Robots-Tag:noindex
X-PUBLISHED-TTL:PT1H
BEGIN:VTIMEZONE
TZID:Europe/London
BEGIN:DAYLIGHT
TZOFFSETFROM:+0000
TZOFFSETTO:+0100
TZNAME:BST
DTSTART:20240331T010000
END:DAYLIGHT
BEGIN:STANDARD
TZOFFSETFROM:+0100
TZOFFSETTO:+0000
TZNAME:GMT
DTSTART:20241027T010000
END:STANDARD
BEGIN:DAYLIGHT
TZOFFSETFROM:+0000
TZOFFSETTO:+0100
TZNAME:BST
DTSTART:20250330T010000
END:DAYLIGHT
BEGIN:STANDARD
TZOFFSETFROM:+0100
TZOFFSETTO:+0000
TZNAME:GMT
DTSTART:20251026T010000
END:STANDARD
BEGIN:DAYLIGHT
TZOFFSETFROM:+0000
TZOFFSETTO:+0100
TZNAME:BST
DTSTART:20260329T010000
END:DAYLIGHT
BEGIN:STANDARD
TZOFFSETFROM:+0100
TZOFFSETTO:+0000
TZNAME:GMT
DTSTART:20261025T010000
END:STANDARD
END:VTIMEZONE
BEGIN:VEVENT
DTSTART;TZID=Europe/London:20251016T160000
DTEND;TZID=Europe/London:20251016T173000
DTSTAMP:20260425T044426
CREATED:20210928T175105Z
LAST-MODIFIED:20250807T135610Z
UID:10000011-1760630400-1760635800@www.cathayshigh.co.uk
SUMMARY:Year 9 Options evening
DESCRIPTION:Year 9 Options evening. \n 
URL:https://www.cathayshigh.co.uk/event/year-9-family-interview-options-evening/
CATEGORIES:Parents' Evenings
END:VEVENT
END:VCALENDAR